BEGIN:VCALENDAR
VERSION:2.0
PRODID:-//CUNY SPS OpenLab//NONSGML Events//EN
CALSCALE:GREGORIAN
X-ORIGINAL-URL:https://openlab.sps.cuny.edu/events/event/
X-WR-CALDESC:CUNY SPS OpenLab - Events
BEGIN:VEVENT
UID:20260225T2056Z-1772052969.2535-EO-3264-1@135.148.23.154
STATUS:CONFIRMED
DTSTAMP:20260421T161149Z
CREATED:20260225T181001Z
LAST-MODIFIED:20260225T183527Z
DTSTART:20260307T210000Z
DTEND:20260307T233000Z
SUMMARY: The Bowery Mission – Dinner Service (Tribeca Campus)
DESCRIPTION: Join us for dinner service at The Bowery Mission’s Tribeca Cam
 pus and experience the transformative power of serving over 140 nourishing 
 meals to shelter residents. Volunteers will work together to serve drinks\,
  set up trays\, distribute dinner to guests\, and help clean up afterward f
 or residents who rely on these services each day. Schedule: 5:00 [...]
X-ALT-DESC;FMTTYPE=text/html: <p>Join us for dinner service at The Bowery M
 ission’s Tribeca Campus and experience the transformative power of serving 
 over 140 nourishing meals to shelter residents. Volunteers will work togeth
 er to serve drinks\, set up trays\, distribute dinner to guests\, and help 
 clean up afterward for residents who rely on these services each day.</p><p
 >Schedule:<br />5:00 PM – Volunteers arrive and set up<br />5:30 PM – Meal 
 service begins (dinner is distributed to guests)<br />6:45 PM – Clean up (s
 weeping and cleaning tables)</p><p data-start="702" data-end="788">Location
 : Tribeca Campus\, 90 Lafayette St\, New York NY 10013<br data-start="738" 
 data-end="741" />Registration Link: <a href="https://bowery.volunteerhub.co
 m/vv2/lp/cunytbm/">https://bowery.volunteerhub.com/vv2/lp/cunytbm/</a></p><
 p data-start="790" data-end="910">When registering\, please select CUNY Sch
 ool of Professional Studies under group affiliation. If you have any questi
 ons\, please contact Elizabeth Navarro at elizabeth.navarro@cuny.edu.</p>
ORGANIZER;CN="Elizabeth Navarro":MAILTO:elizabeth.navarro@cuny.edu
URL;VALUE=URI:https://openlab.sps.cuny.edu/events/event/bowery-mission-volu
 nteer-event/
END:VEVENT
END:VCALENDAR
