BEGIN:VCALENDAR
VERSION:2.0
PRODID:-//CUNY SPS Open Road//NONSGML Events//EN
CALSCALE:GREGORIAN
X-WR-CALNAME:CUNY SPS Open Road - Events
X-ORIGINAL-URL:https://openlab.sps.cuny.edu/groups/sps-open-road/events/
X-WR-CALDESC:CUNY SPS Open Road - Events
BEGIN:VEVENT
UID:20250308T1322Z-1741440139.7043-EO-1228-1@135.148.23.154
STATUS:CONFIRMED
DTSTAMP:20260423T115232Z
CREATED:20250307T220537Z
LAST-MODIFIED:20250307T220537Z
DTSTART:20250313T210000Z
DTEND:20250313T220000Z
SUMMARY: OpenLab Support Hours
DESCRIPTION: OpenLab is open for business! Join the OpenLab team this semes
 ter to learn about available tools and features\, including building your o
 wn site\, using our awesome new single sign-on plugin\, and joining the gro
 wing groups and conversations happening with other CUNY SPS community proje
 cts! Please bring your OpenLab questions and ideas for one-on-one support a
 nd collaboration. [...]
X-ALT-DESC;FMTTYPE=text/html: <p><strong>OpenLab is open for business! </st
 rong>Join the OpenLab team this semester to learn about available tools and
  features\, including building your own site\, using our awesome new single
  sign-on plugin\, and joining the growing groups and conversations happenin
 g with other CUNY SPS community projects!</p><p>Please bring your OpenLab q
 uestions and ideas for one-on-one support and collaboration. We’re looking 
 forward to helping you bring your ideas to life!</p><p><a href="https://us0
 2web.zoom.us/meeting/register/FXESQVuES-Sm4TuCR--chw">REGISTRATION</a></p>
ORGANIZER;CN="Jesse Rice-Evans":MAILTO:jesse.riceevans@cuny.edu
URL;VALUE=URI:https://openlab.sps.cuny.edu/events/event/openlab-support-hou
 rs/
END:VEVENT
BEGIN:VEVENT
UID:20250308T1322Z-1741440139.7081-EO-1229-1@135.148.23.154
STATUS:CONFIRMED
DTSTAMP:20260423T115232Z
CREATED:20250307T220647Z
LAST-MODIFIED:20250307T220647Z
DTSTART:20250327T210000Z
DTEND:20250327T220000Z
SUMMARY: OpenLab Support Hours
DESCRIPTION: OpenLab is open for business! Join the OpenLab team this semes
 ter to learn about available tools and features\, including building your o
 wn site\, using our awesome new single sign-on plugin\, and joining the gro
 wing groups and conversations happening with other CUNY SPS community proje
 cts! Please bring your OpenLab questions and ideas for one-on-one support a
 nd collaboration. [...]
X-ALT-DESC;FMTTYPE=text/html: <p><strong>OpenLab is open for business! </st
 rong>Join the OpenLab team this semester to learn about available tools and
  features\, including building your own site\, using our awesome new single
  sign-on plugin\, and joining the growing groups and conversations happenin
 g with other CUNY SPS community projects!</p><p>Please bring your OpenLab q
 uestions and ideas for one-on-one support and collaboration. We’re looking 
 forward to helping you bring your ideas to life!</p><p><a href="https://us0
 2web.zoom.us/meeting/register/-RSQFGRgQmGLxW68CDwcxQ" target="_blank" rel="
 noreferrer noopener">Registration Link</a></p>
ORGANIZER;CN="Jesse Rice-Evans":MAILTO:jesse.riceevans@cuny.edu
URL;VALUE=URI:https://openlab.sps.cuny.edu/events/event/openlab-support-hou
 rs-2/
END:VEVENT
BEGIN:VEVENT
UID:20250308T1322Z-1741440139.7108-EO-1230-1@135.148.23.154
STATUS:CONFIRMED
DTSTAMP:20260423T115232Z
CREATED:20250307T220735Z
LAST-MODIFIED:20250307T220906Z
DTSTART:20250408T210000Z
DTEND:20250408T220000Z
SUMMARY: OpenLab Support Hours
DESCRIPTION: OpenLab is open for business! Join the OpenLab team this semes
 ter to learn about available tools and features\, including building your o
 wn site\, using our awesome new single sign-on plugin\, and joining the gro
 wing groups and conversations happening with other CUNY SPS community proje
 cts! Please bring your OpenLab questions and ideas for one-on-one support a
 nd collaboration. [...]
X-ALT-DESC;FMTTYPE=text/html: <p><strong>OpenLab is open for business! </st
 rong>Join the OpenLab team this semester to learn about available tools and
  features\, including building your own site\, using our awesome new single
  sign-on plugin\, and joining the growing groups and conversations happenin
 g with other CUNY SPS community projects!</p><p>Please bring your OpenLab q
 uestions and ideas for one-on-one support and collaboration. We’re looking 
 forward to helping you bring your ideas to life!</p><p><a href="https://us0
 2web.zoom.us/meeting/register/9jX9wbejREibgVxhzgzzRQ" target="_blank" rel="
 noreferrer noopener">Registration Link</a></p>
ORGANIZER;CN="Jesse Rice-Evans":MAILTO:jesse.riceevans@cuny.edu
URL;VALUE=URI:https://openlab.sps.cuny.edu/events/event/1230/
END:VEVENT
BEGIN:VEVENT
UID:20250308T1322Z-1741440139.7135-EO-1231-1@135.148.23.154
STATUS:CONFIRMED
DTSTAMP:20260423T115232Z
CREATED:20250307T220835Z
LAST-MODIFIED:20250307T220835Z
DTSTART:20250513T210000Z
DTEND:20250513T220000Z
SUMMARY: OpenLab Support Hours
DESCRIPTION: OpenLab is open for business! Join the OpenLab team this semes
 ter to learn about available tools and features\, including building your o
 wn site\, using our awesome new single sign-on plugin\, and joining the gro
 wing groups and conversations happening with other CUNY SPS community proje
 cts! Please bring your OpenLab questions and ideas for one-on-one support a
 nd collaboration. [...]
X-ALT-DESC;FMTTYPE=text/html: <p><strong>OpenLab is open for business! </st
 rong>Join the OpenLab team this semester to learn about available tools and
  features\, including building your own site\, using our awesome new single
  sign-on plugin\, and joining the growing groups and conversations happenin
 g with other CUNY SPS community projects!</p><p>Please bring your OpenLab q
 uestions and ideas for one-on-one support and collaboration. We’re looking 
 forward to helping you bring your ideas to life!</p><p><a href="https://us0
 2web.zoom.us/meeting/register/DIESwbPrQ1i8bg5x4QlUUw" target="_blank" rel="
 noreferrer noopener">Registration Link</a></p>
ORGANIZER;CN="Jesse Rice-Evans":MAILTO:jesse.riceevans@cuny.edu
URL;VALUE=URI:https://openlab.sps.cuny.edu/events/event/openlab-support-hou
 rs-3/
END:VEVENT
END:VCALENDAR
